Package: tidyFlowCore Version: 1.2.0 Command: /home/biocbuild/bbs-3.21-bioc/R/bin/R CMD check --install=check:tidyFlowCore.install-out.txt --library=/home/biocbuild/bbs-3.21-bioc/R/site-library --timings tidyFlowCore_1.2.0.tar.gz StartedAt: 2025-10-16 04:23:01 -0400 (Thu, 16 Oct 2025) EndedAt: 2025-10-16 04:25:18 -0400 (Thu, 16 Oct 2025) EllapsedTime: 137.2 seconds RetCode: 0 Status: OK CheckDir: tidyFlowCore.Rcheck Warnings: 0