Package: tidyCoverage Version: 1.2.0 Command: /home/biocbuild/R/R/bin/R CMD check --install=check:tidyCoverage.install-out.txt --library=/home/biocbuild/R/R/site-library --no-vignettes --timings tidyCoverage_1.2.0.tar.gz StartedAt: 2025-01-31 11:02:13 -0000 (Fri, 31 Jan 2025) EndedAt: 2025-01-31 11:08:19 -0000 (Fri, 31 Jan 2025) EllapsedTime: 366.4 seconds RetCode: 0 Status: OK CheckDir: tidyCoverage.Rcheck Warnings: 0