Package: tidyCoverage Version: 1.4.1 Command: /home/biocbuild/bbs-3.21-bioc/R/bin/R CMD INSTALL tidyCoverage StartedAt: 2025-07-13 15:26:30 -0400 (Sun, 13 Jul 2025) EndedAt: 2025-07-13 15:27:03 -0400 (Sun, 13 Jul 2025) EllapsedTime: 33.1 seconds RetCode: 0 Status: OK