Package: tidyCoverage Version: 1.4.1 Command: /home/biocbuild/bbs-3.21-bioc/R/bin/R CMD build --keep-empty-dirs --no-resave-data tidyCoverage StartedAt: 2025-07-13 19:32:54 -0400 (Sun, 13 Jul 2025) EndedAt: 2025-07-13 19:35:38 -0400 (Sun, 13 Jul 2025) EllapsedTime: 164.2 seconds RetCode: 0 Status: OK PackageFile: tidyCoverage_1.4.1.tar.gz PackageFileSize: 3.734 MiB