Package: tidyCoverage Version: 1.4.1 Command: /Library/Frameworks/R.framework/Resources/bin/R CMD INSTALL tidyCoverage StartedAt: 2025-05-15 16:34:32 -0400 (Thu, 15 May 2025) EndedAt: 2025-05-15 16:35:12 -0400 (Thu, 15 May 2025) EllapsedTime: 39.5 seconds RetCode: 0 Status: OK