Package: terraTCGAdata Version: 1.12.0 Command: /home/biocbuild/R/R/bin/R CMD check --install=check:terraTCGAdata.install-out.txt --library=/home/biocbuild/R/R/site-library --no-vignettes --timings terraTCGAdata_1.12.0.tar.gz StartedAt: 2025-05-20 14:21:43 -0000 (Tue, 20 May 2025) EndedAt: 2025-05-20 14:25:49 -0000 (Tue, 20 May 2025) EllapsedTime: 246.3 seconds RetCode: 0 Status: OK CheckDir: terraTCGAdata.Rcheck Warnings: 0