Package: terapadog Version: 1.2.0 Command: /home/biocbuild/bbs-3.22-bioc/R/bin/R CMD INSTALL terapadog StartedAt: 2025-11-17 17:29:22 -0500 (Mon, 17 Nov 2025) EndedAt: 2025-11-17 17:29:53 -0500 (Mon, 17 Nov 2025) EllapsedTime: 30.8 seconds RetCode: 0 Status: OK