Package: terapadog Version: 1.2.0 Command: /home/biocbuild/bbs-3.22-bioc/R/bin/R CMD build --keep-empty-dirs --no-resave-data --md5 terapadog StartedAt: 2025-11-17 23:56:46 -0500 (Mon, 17 Nov 2025) EndedAt: 2025-11-17 23:58:12 -0500 (Mon, 17 Nov 2025) EllapsedTime: 86.1 seconds RetCode: 0 Status: OK PackageFile: terapadog_1.2.0.tar.gz PackageFileSize: 1.496 MiB