Package: target Version: 1.20.0 Command: /home/biocbuild/R/R/bin/R CMD check --install=check:target.install-out.txt --library=/home/biocbuild/R/R/site-library --no-vignettes --timings target_1.20.0.tar.gz StartedAt: 2025-01-31 10:57:56 -0000 (Fri, 31 Jan 2025) EndedAt: 2025-01-31 10:59:26 -0000 (Fri, 31 Jan 2025) EllapsedTime: 90.1 seconds RetCode: 0 Status: OK CheckDir: target.Rcheck Warnings: 0