Package: target Version: 1.22.0 Command: /Library/Frameworks/R.framework/Resources/bin/R CMD build --keep-empty-dirs --no-resave-data target StartedAt: 2025-04-21 18:41:10 -0400 (Mon, 21 Apr 2025) EndedAt: 2025-04-21 18:41:59 -0400 (Mon, 21 Apr 2025) EllapsedTime: 49.1 seconds RetCode: 0 Status: OK PackageFile: target_1.22.0.tar.gz PackageFileSize: 3.08 MiB