Package: tadar Version: 1.4.0 Command: rm -rf tadar.buildbin-libdir && mkdir tadar.buildbin-libdir && F:\biocbuild\bbs-3.20-bioc\R\bin\R.exe CMD INSTALL --build --library=tadar.buildbin-libdir tadar_1.4.0.tar.gz StartedAt: 2025-01-31 09:45:35 -0500 (Fri, 31 Jan 2025) EndedAt: 2025-01-31 09:46:38 -0500 (Fri, 31 Jan 2025) EllapsedTime: 62.9 seconds RetCode: 0 Status: OK PackageFile: tadar_1.4.0.zip PackageFileSize: 1.07 MiB