Package: tadar Version: 1.4.0 Command: /home/biocbuild/bbs-3.20-bioc/R/bin/R CMD INSTALL tadar StartedAt: 2025-01-30 15:36:02 -0500 (Thu, 30 Jan 2025) EndedAt: 2025-01-30 15:37:07 -0500 (Thu, 30 Jan 2025) EllapsedTime: 65.6 seconds RetCode: 0 Status: OK