Package: tadar Version: 1.4.0 Command: /home/biocbuild/bbs-3.20-bioc/R/bin/R CMD build --keep-empty-dirs --no-resave-data --md5 tadar StartedAt: 2025-01-30 19:25:54 -0500 (Thu, 30 Jan 2025) EndedAt: 2025-01-30 19:27:17 -0500 (Thu, 30 Jan 2025) EllapsedTime: 83.1 seconds RetCode: 0 Status: OK PackageFile: tadar_1.4.0.tar.gz PackageFileSize: 1.665 MiB