Package: tadar Version: 1.4.0 Command: rm -rf tadar.buildbin-libdir && mkdir tadar.buildbin-libdir && /Users/biocbuild/BBS/utils/build-universal.sh tadar_1.4.0.tar.gz /Library/Frameworks/R.framework/Resources/bin/R tadar.buildbin-libdir StartedAt: 2025-01-31 13:49:58 -0500 (Fri, 31 Jan 2025) EndedAt: 2025-01-31 13:51:43 -0500 (Fri, 31 Jan 2025) EllapsedTime: 105.3 seconds RetCode: 0 Status: OK PackageFile: tadar_1.4.0.tgz PackageFileSize: 1.488 MiB