Package: tadar Version: 1.6.0 Command: /Library/Frameworks/R.framework/Resources/bin/R CMD INSTALL tadar StartedAt: 2025-04-21 15:39:26 -0400 (Mon, 21 Apr 2025) EndedAt: 2025-04-21 15:40:31 -0400 (Mon, 21 Apr 2025) EllapsedTime: 65.1 seconds RetCode: 0 Status: OK