Package: tadar Version: 1.6.0 Command: /home/biocbuild/R/R/bin/R CMD build --keep-empty-dirs --no-resave-data tadar StartedAt: 2025-05-06 04:58:27 -0000 (Tue, 06 May 2025) EndedAt: 2025-05-06 05:00:26 -0000 (Tue, 06 May 2025) EllapsedTime: 119.0 seconds RetCode: 0 Status: OK PackageFile: tadar_1.6.0.tar.gz PackageFileSize: 1.733 MiB