Package: tadar Version: 1.6.0 Command: /Library/Frameworks/R.framework/Resources/bin/R CMD build --keep-empty-dirs --no-resave-data tadar StartedAt: 2025-04-21 17:50:33 -0400 (Mon, 21 Apr 2025) EndedAt: 2025-04-21 17:51:14 -0400 (Mon, 21 Apr 2025) EllapsedTime: 41.5 seconds RetCode: 0 Status: OK PackageFile: tadar_1.6.0.tar.gz PackageFileSize: 1.745 MiB