Package: tadar Version: 1.6.0 Command: rm -rf tadar.buildbin-libdir && mkdir tadar.buildbin-libdir && /Users/biocbuild/BBS/utils/build-universal.sh tadar_1.6.0.tar.gz /Library/Frameworks/R.framework/Resources/bin/R tadar.buildbin-libdir StartedAt: 2025-04-21 22:54:45 -0400 (Mon, 21 Apr 2025) EndedAt: 2025-04-21 22:55:07 -0400 (Mon, 21 Apr 2025) EllapsedTime: 21.6 seconds RetCode: 0 Status: OK PackageFile: tadar_1.6.0.tgz PackageFileSize: 1.491 MiB