Package: tRanslatome Version: 1.44.0 Command: /home/biocbuild/R/R/bin/R CMD build --keep-empty-dirs --no-resave-data tRanslatome StartedAt: 2025-01-31 03:16:20 -0000 (Fri, 31 Jan 2025) EndedAt: 2025-01-31 03:18:01 -0000 (Fri, 31 Jan 2025) EllapsedTime: 101.1 seconds RetCode: 0 Status: OK PackageFile: tRanslatome_1.44.0.tar.gz PackageFileSize: 929.3 KiB