Package: tRanslatome Version: 1.44.0 Command: chmod a+r tRanslatome -R && F:\biocbuild\bbs-3.20-bioc\R\bin\R.exe CMD build --keep-empty-dirs --no-resave-data tRanslatome StartedAt: 2025-01-02 22:28:43 -0500 (Thu, 02 Jan 2025) EndedAt: 2025-01-02 22:30:43 -0500 (Thu, 02 Jan 2025) EllapsedTime: 119.6 seconds RetCode: 0 Status: OK PackageFile: tRanslatome_1.44.0.tar.gz PackageFileSize: 813.1 KiB