Package: tRNAdbImport Version: 1.26.0 Command: chmod a+r tRNAdbImport -R && E:\biocbuild\bbs-3.21-bioc\R\bin\R.exe CMD build --keep-empty-dirs --no-resave-data tRNAdbImport StartedAt: 2025-08-14 22:49:35 -0400 (Thu, 14 Aug 2025) EndedAt: 2025-08-14 22:50:28 -0400 (Thu, 14 Aug 2025) EllapsedTime: 53.9 seconds RetCode: 0 Status: OK PackageFile: tRNAdbImport_1.26.0.tar.gz PackageFileSize: 322.2 KiB