Package: systemPipeTools Version: 1.16.0 Command: /home/biocbuild/bbs-3.21-bioc/R/bin/R CMD INSTALL systemPipeTools StartedAt: 2025-10-01 15:23:30 -0400 (Wed, 01 Oct 2025) EndedAt: 2025-10-01 15:23:56 -0400 (Wed, 01 Oct 2025) EllapsedTime: 25.8 seconds RetCode: 0 Status: OK