Package: systemPipeTools Version: 1.16.0 Command: /home/biocbuild/bbs-3.21-bioc/R/bin/R CMD build --keep-empty-dirs --no-resave-data systemPipeTools StartedAt: 2025-10-01 20:18:50 -0400 (Wed, 01 Oct 2025) EndedAt: 2025-10-01 20:19:49 -0400 (Wed, 01 Oct 2025) EllapsedTime: 59.0 seconds RetCode: 0 Status: OK PackageFile: systemPipeTools_1.16.0.tar.gz PackageFileSize: 991.4 KiB