Package: systemPipeTools Version: 1.16.0 Command: /Library/Frameworks/R.framework/Resources/bin/R CMD INSTALL systemPipeTools StartedAt: 2025-04-21 15:19:13 -0400 (Mon, 21 Apr 2025) EndedAt: 2025-04-21 15:19:47 -0400 (Mon, 21 Apr 2025) EllapsedTime: 34.3 seconds RetCode: 0 Status: OK