Package: systemPipeShiny Version: 1.18.0 Command: rm -rf systemPipeShiny.buildbin-libdir && mkdir systemPipeShiny.buildbin-libdir && E:\biocbuild\bbs-3.21-bioc\R\bin\R.exe CMD INSTALL --build --library=systemPipeShiny.buildbin-libdir systemPipeShiny_1.18.0.tar.gz StartedAt: 2025-08-15 10:26:49 -0400 (Fri, 15 Aug 2025) EndedAt: 2025-08-15 10:28:43 -0400 (Fri, 15 Aug 2025) EllapsedTime: 114.3 seconds RetCode: 0 Status: OK PackageFile: systemPipeShiny_1.18.0.zip PackageFileSize: 3.605 MiB