Package: systemPipeShiny Version: 1.18.0 Command: /Library/Frameworks/R.framework/Resources/bin/R CMD check --install=check:systemPipeShiny.install-out.txt --library=/Library/Frameworks/R.framework/Resources/library --no-vignettes --timings systemPipeShiny_1.18.0.tar.gz StartedAt: 2025-04-21 22:02:12 -0400 (Mon, 21 Apr 2025) EndedAt: 2025-04-21 22:02:56 -0400 (Mon, 21 Apr 2025) EllapsedTime: 43.6 seconds RetCode: 0 Status: OK CheckDir: systemPipeShiny.Rcheck Warnings: 0