Package: synlet Version: 2.8.0 Command: rm -rf synlet.buildbin-libdir && mkdir synlet.buildbin-libdir && E:\biocbuild\bbs-3.21-bioc\R\bin\R.exe CMD INSTALL --build --library=synlet.buildbin-libdir synlet_2.8.0.tar.gz StartedAt: 2025-08-15 10:26:33 -0400 (Fri, 15 Aug 2025) EndedAt: 2025-08-15 10:26:45 -0400 (Fri, 15 Aug 2025) EllapsedTime: 12.2 seconds RetCode: 0 Status: OK PackageFile: synlet_2.8.0.zip PackageFileSize: 659.4 KiB