Package: synlet Version: 2.8.0 Command: /Library/Frameworks/R.framework/Resources/bin/R CMD INSTALL synlet StartedAt: 2025-04-21 15:10:23 -0400 (Mon, 21 Apr 2025) EndedAt: 2025-04-21 15:11:02 -0400 (Mon, 21 Apr 2025) EllapsedTime: 39.0 seconds RetCode: 0 Status: OK