Package: synapter Version: 2.30.0 Command: /home/biocbuild/R/R/bin/R CMD check --install=check:synapter.install-out.txt --library=/home/biocbuild/R/R/site-library --no-vignettes --timings synapter_2.30.0.tar.gz StartedAt: 2025-01-31 10:55:42 -0000 (Fri, 31 Jan 2025) EndedAt: 2025-01-31 11:02:25 -0000 (Fri, 31 Jan 2025) EllapsedTime: 402.6 seconds RetCode: 0 Status: OK CheckDir: synapter.Rcheck Warnings: 0