Package: synapter Version: 2.30.0 Command: /Library/Frameworks/R.framework/Resources/bin/R CMD check --install=check:synapter.install-out.txt --library=/Library/Frameworks/R.framework/Resources/library --no-vignettes --timings synapter_2.30.0.tar.gz StartedAt: 2025-02-01 11:28:18 -0500 (Sat, 01 Feb 2025) EndedAt: 2025-02-01 11:35:12 -0500 (Sat, 01 Feb 2025) EllapsedTime: 413.6 seconds RetCode: 0 Status: OK CheckDir: synapter.Rcheck Warnings: 0