Package: synapter Version: 2.30.0 Command: /Library/Frameworks/R.framework/Resources/bin/R CMD build --keep-empty-dirs --no-resave-data synapter StartedAt: 2025-01-31 09:15:54 -0500 (Fri, 31 Jan 2025) EndedAt: 2025-01-31 09:22:36 -0500 (Fri, 31 Jan 2025) EllapsedTime: 401.9 seconds RetCode: 0 Status: OK PackageFile: synapter_2.30.0.tar.gz PackageFileSize: 4.707 MiB