Package: synapsis Version: 1.14.0 Command: /Library/Frameworks/R.framework/Resources/bin/R CMD INSTALL synapsis StartedAt: 2025-05-05 15:18:37 -0400 (Mon, 05 May 2025) EndedAt: 2025-05-05 15:18:48 -0400 (Mon, 05 May 2025) EllapsedTime: 10.7 seconds RetCode: 0 Status: OK