Package: synapsis Version: 1.14.0 Command: rm -rf synapsis.buildbin-libdir && mkdir synapsis.buildbin-libdir && /Users/biocbuild/BBS/utils/build-universal.sh synapsis_1.14.0.tar.gz /Library/Frameworks/R.framework/Resources/bin/R synapsis.buildbin-libdir StartedAt: 2025-04-22 01:12:30 -0400 (Tue, 22 Apr 2025) EndedAt: 2025-04-22 01:12:39 -0400 (Tue, 22 Apr 2025) EllapsedTime: 9.3 seconds RetCode: 0 Status: OK PackageFile: synapsis_1.14.0.tgz PackageFileSize: 3.63 MiB