Package: synapsis Version: 1.14.0 Command: rm -rf synapsis.buildbin-libdir && mkdir synapsis.buildbin-libdir && /Users/biocbuild/BBS/utils/build-universal.sh synapsis_1.14.0.tar.gz /Library/Frameworks/R.framework/Resources/bin/R synapsis.buildbin-libdir StartedAt: 2025-05-14 17:11:52 -0400 (Wed, 14 May 2025) EndedAt: 2025-05-14 17:12:00 -0400 (Wed, 14 May 2025) EllapsedTime: 7.8 seconds RetCode: 0 Status: OK PackageFile: synapsis_1.14.0.tgz PackageFileSize: 3.63 MiB