Package: switchde Version: 1.34.0 Command: chmod a+r switchde -R && E:\biocbuild\bbs-3.21-bioc\R\bin\R.exe CMD build --keep-empty-dirs --no-resave-data switchde StartedAt: 2025-08-14 22:36:56 -0400 (Thu, 14 Aug 2025) EndedAt: 2025-08-14 22:37:52 -0400 (Thu, 14 Aug 2025) EllapsedTime: 55.9 seconds RetCode: 0 Status: OK PackageFile: switchde_1.34.0.tar.gz PackageFileSize: 489.3 KiB