Package: switchde Version: 1.34.0 Command: /Library/Frameworks/R.framework/Resources/bin/R CMD build --keep-empty-dirs --no-resave-data switchde StartedAt: 2025-05-08 22:51:32 -0400 (Thu, 08 May 2025) EndedAt: 2025-05-08 22:53:06 -0400 (Thu, 08 May 2025) EllapsedTime: 94.5 seconds RetCode: 0 Status: OK PackageFile: switchde_1.34.0.tar.gz PackageFileSize: 1.031 MiB