Package: switchde Version: 1.34.0 Command: rm -rf switchde.buildbin-libdir && mkdir switchde.buildbin-libdir && /Users/biocbuild/BBS/utils/build-universal.sh switchde_1.34.0.tar.gz /Library/Frameworks/R.framework/Resources/bin/R switchde.buildbin-libdir StartedAt: 2025-05-09 13:31:04 -0400 (Fri, 09 May 2025) EndedAt: 2025-05-09 13:32:22 -0400 (Fri, 09 May 2025) EllapsedTime: 78.1 seconds RetCode: 0 Status: OK PackageFile: switchde_1.34.0.tgz PackageFileSize: 1.072 MiB