Package: switchde Version: 1.34.0 Command: /Library/Frameworks/R.framework/Resources/bin/R CMD check --install=check:switchde.install-out.txt --library=/Library/Frameworks/R.framework/Resources/library --no-vignettes --timings switchde_1.34.0.tar.gz StartedAt: 2025-04-21 22:01:35 -0400 (Mon, 21 Apr 2025) EndedAt: 2025-04-21 22:02:46 -0400 (Mon, 21 Apr 2025) EllapsedTime: 71.9 seconds RetCode: 0 Status: OK CheckDir: switchde.Rcheck Warnings: 0