Package: switchBox Version: 1.44.0 Command: rm -rf switchBox.buildbin-libdir && mkdir switchBox.buildbin-libdir && E:\biocbuild\bbs-3.21-bioc\R\bin\R.exe CMD INSTALL --build --library=switchBox.buildbin-libdir switchBox_1.44.0.tar.gz StartedAt: 2025-08-15 10:26:22 -0400 (Fri, 15 Aug 2025) EndedAt: 2025-08-15 10:26:43 -0400 (Fri, 15 Aug 2025) EllapsedTime: 21.3 seconds RetCode: 0 Status: OK PackageFile: switchBox_1.44.0.zip PackageFileSize: 650.1 KiB