Package: swfdr Version: 1.32.0 Command: /home/biocbuild/R/R/bin/R CMD check --install=check:swfdr.install-out.txt --library=/home/biocbuild/R/R/site-library --no-vignettes --timings swfdr_1.32.0.tar.gz StartedAt: 2025-01-31 10:54:45 -0000 (Fri, 31 Jan 2025) EndedAt: 2025-01-31 10:55:09 -0000 (Fri, 31 Jan 2025) EllapsedTime: 24.0 seconds RetCode: 0 Status: WARNINGS CheckDir: swfdr.Rcheck Warnings: 1