Package: svaRetro Version: 1.12.0 Command: rm -rf svaRetro.buildbin-libdir && mkdir svaRetro.buildbin-libdir && F:\biocbuild\bbs-3.20-bioc\R\bin\R.exe CMD INSTALL --build --library=svaRetro.buildbin-libdir svaRetro_1.12.0.tar.gz StartedAt: 2025-02-04 09:38:10 -0500 (Tue, 04 Feb 2025) EndedAt: 2025-02-04 09:39:01 -0500 (Tue, 04 Feb 2025) EllapsedTime: 51.3 seconds RetCode: 0 Status: OK PackageFile: svaRetro_1.12.0.zip PackageFileSize: 1.468 MiB