Package: svaRetro Version: 1.12.0 Command: /home/biocbuild/bbs-3.20-bioc/R/bin/R CMD build --keep-empty-dirs --no-resave-data --md5 svaRetro StartedAt: 2025-01-30 19:24:23 -0500 (Thu, 30 Jan 2025) EndedAt: 2025-01-30 19:25:34 -0500 (Thu, 30 Jan 2025) EllapsedTime: 71.1 seconds RetCode: 0 Status: OK PackageFile: svaRetro_1.12.0.tar.gz PackageFileSize: 1.597 MiB