Package: svaRetro Version: 1.14.0 Command: /Library/Frameworks/R.framework/Resources/bin/R CMD build --keep-empty-dirs --no-resave-data svaRetro StartedAt: 2025-04-24 23:42:04 -0400 (Thu, 24 Apr 2025) EndedAt: 2025-04-24 23:44:49 -0400 (Thu, 24 Apr 2025) EllapsedTime: 165.6 seconds RetCode: 0 Status: OK PackageFile: svaRetro_1.14.0.tar.gz PackageFileSize: 1.533 MiB