Package: svaRetro Version: 1.14.0 Command: rm -rf svaRetro.buildbin-libdir && mkdir svaRetro.buildbin-libdir && /Users/biocbuild/BBS/utils/build-universal.sh svaRetro_1.14.0.tar.gz /Library/Frameworks/R.framework/Resources/bin/R svaRetro.buildbin-libdir StartedAt: 2025-04-25 14:41:47 -0400 (Fri, 25 Apr 2025) EndedAt: 2025-04-25 14:43:20 -0400 (Fri, 25 Apr 2025) EllapsedTime: 93.9 seconds RetCode: 1 Status: ERROR PackageFile: None PackageFileSize: NA