Package: svaRetro Version: 1.16.0 Command: /Library/Frameworks/R.framework/Resources/bin/R CMD build --keep-empty-dirs --no-resave-data svaRetro StartedAt: 2025-10-30 18:53:03 -0400 (Thu, 30 Oct 2025) EndedAt: 2025-10-30 18:54:19 -0400 (Thu, 30 Oct 2025) EllapsedTime: 75.4 seconds RetCode: 1 Status: ERROR PackageFile: None PackageFileSize: NA