Package: svaRetro Version: 1.12.0 Command: /home/biocbuild/R/R/bin/R CMD check --install=check:svaRetro.install-out.txt --library=/home/biocbuild/R/R/site-library --no-vignettes --timings svaRetro_1.12.0.tar.gz StartedAt: 2024-11-20 13:04:48 -0000 (Wed, 20 Nov 2024) EndedAt: 2024-11-20 13:12:46 -0000 (Wed, 20 Nov 2024) EllapsedTime: 477.9 seconds RetCode: 0 Status: OK CheckDir: svaRetro.Rcheck Warnings: 0