Package: svaRetro Version: 1.14.0 Command: /Library/Frameworks/R.framework/Resources/bin/R CMD check --install=check:svaRetro.install-out.txt --library=/Library/Frameworks/R.framework/Resources/library --no-vignettes --timings svaRetro_1.14.0.tar.gz StartedAt: 2025-04-29 11:14:32 -0400 (Tue, 29 Apr 2025) EndedAt: 2025-04-29 11:16:58 -0400 (Tue, 29 Apr 2025) EllapsedTime: 145.5 seconds RetCode: 0 Status: OK CheckDir: svaRetro.Rcheck Warnings: 0