Package: svaRetro Version: 1.12.0 Command: /Library/Frameworks/R.framework/Resources/bin/R CMD build --keep-empty-dirs --no-resave-data svaRetro StartedAt: 2025-01-31 09:13:29 -0500 (Fri, 31 Jan 2025) EndedAt: 2025-01-31 09:15:03 -0500 (Fri, 31 Jan 2025) EllapsedTime: 93.7 seconds RetCode: 0 Status: OK PackageFile: svaRetro_1.12.0.tar.gz PackageFileSize: 1.533 MiB