Package: svaRetro Version: 1.12.0 Maintainer: Ruining Dong MaintainerEmail: lnyidrn at gmail.com git_url: https://git.bioconductor.org/packages/svaRetro git_branch: RELEASE_3_20 git_last_commit: c34d9ce git_last_commit_date: 2024-10-29 11:03:36 -0500 (Tue, 29 Oct 2024)