Package: sva Version: 3.56.0 Command: /home/biocbuild/bbs-3.21-bioc/R/bin/R CMD build --keep-empty-dirs --no-resave-data sva StartedAt: 2025-10-08 20:11:05 -0400 (Wed, 08 Oct 2025) EndedAt: 2025-10-08 20:11:58 -0400 (Wed, 08 Oct 2025) EllapsedTime: 53.1 seconds RetCode: 0 Status: OK PackageFile: sva_3.56.0.tar.gz PackageFileSize: 442 KiB